BEGIN:VCALENDAR
VERSION:2.0
PRODID:-//ChamberMaster//Event Calendar 2.0//EN
METHOD:PUBLISH
X-PUBLISHED-TTL:P3D
REFRESH-INTERVAL:P3D
CALSCALE:GREGORIAN
BEGIN:VEVENT
DTSTART:20170125T230000Z
DTEND:20170126T010000Z
X-MICROSOFT-CDO-ALLDAYEVENT:FALSE
SUMMARY:Agritourism Workshop
DESCRIPTION:Halifax County Agricultural Development\, Halifax County Tourism and Virginia Cooperative Extension have partnered to offer an agritourism workshop. The workshop will cover the topics of liability\, insurance and safety in agritourism.
X-ALT-DESC;FMTTYPE=text/html:Halifax County Agricultural Development\, Halifax County Tourism and Virginia Cooperative Extension have partnered to offer an agritourism workshop. The workshop will cover the topics of liability\, insurance and safety in agritourism.
LOCATION:Halifax County Visitor Center 1180 Bill Tuck Highway South Boston\, VA 24592
UID:e.845.5770
SEQUENCE:3
DTSTAMP:20260424T162211Z
URL:https://business.halifaxchamber.net/events/details/agritourism-workshop-5770
END:VEVENT

END:VCALENDAR
