BEGIN:VCALENDAR
VERSION:2.0
PRODID:-//ChamberMaster//Event Calendar 2.0//EN
METHOD:PUBLISH
X-PUBLISHED-TTL:P3D
REFRESH-INTERVAL:P3D
CALSCALE:GREGORIAN
BEGIN:VEVENT
DTSTART:20191026T130000Z
DTEND:20191026T170000Z
X-MICROSOFT-CDO-ALLDAYEVENT:FALSE
SUMMARY:AHA CPR Certification
DESCRIPTION:Sign up for a CPR Certification class.\n\n$50 a person.
X-ALT-DESC;FMTTYPE=text/html:Sign up for a CPR Certification class.<br />\n$50 a person.
LOCATION:Sentara Halifax Regional Hospital Legget Auditorium 2204 Wilborn Ave South Boston\, VA 24592
UID:e.845.14471
SEQUENCE:3
DTSTAMP:20260420T214624Z
URL:https://business.halifaxchamber.net/events/details/aha-cpr-certification-14471
END:VEVENT

END:VCALENDAR
