BEGIN:VCALENDAR
VERSION:2.0
PRODID:-//ChamberMaster//Event Calendar 2.0//EN
METHOD:PUBLISH
X-PUBLISHED-TTL:P3D
REFRESH-INTERVAL:P3D
CALSCALE:GREGORIAN
BEGIN:VEVENT
DTSTART:20210620T190000Z
DTEND:20210620T190000Z
X-MICROSOFT-CDO-ALLDAYEVENT:FALSE
SUMMARY:Aladdin Jr.
DESCRIPTION:Join the Halifax County High School Theatre for their production of Disney's Aladdin Jr.\n\nAll tickets - $10 at the door
X-ALT-DESC;FMTTYPE=text/html:Join the Halifax County High School Theatre for their production of Disney&#39\;s Aladdin Jr.<br />\nAll tickets - $10 at the door
LOCATION:Halifax County High School 1010 High School Circle South Boston\, VA 24592
UID:e.845.18041
SEQUENCE:3
DTSTAMP:20260419T123513Z
URL:https://business.halifaxchamber.net/events/details/aladdin-jr-18041
END:VEVENT

END:VCALENDAR
