BEGIN:VCALENDAR
VERSION:2.0
PRODID:-//ChamberMaster//Event Calendar 2.0//EN
METHOD:PUBLISH
X-PUBLISHED-TTL:P3D
REFRESH-INTERVAL:P3D
CALSCALE:GREGORIAN
BEGIN:VEVENT
DTSTART:20190327T140000Z
DTEND:20190327T193000Z
X-MICROSOFT-CDO-ALLDAYEVENT:FALSE
SUMMARY:All-Hands Meeting with GO Virginia Region 3
DESCRIPTION:We're excited to gather innovators and problem solvers from across\n\nRegion 3 for our Spring All Hands Meeting. Network. Listen to TED-style\n\nSOVA success stories. Learn about GO Virginia projects. Share your ideas.\n\n\n\nThe Day's Line-up:\n\n	Keynote speaker Larry Terry\, director of the UVA Weldon Cooper Center for Public Service. He'll share local Southern Virginia success stories as they relate to Leadership in Action\n	Girls who Code\, Halifax County\n	 The SOVA Food Hub\, South Hill\n	Racing Ahead   The VIR Advantage\, Alton\n	The Randolph-Henry Land Laboratory\, Charlotte County\n	Ballad Brewing Company\, Danville and Farmville\n	Plus\, project updates on GO Virginia initiatives
X-ALT-DESC;FMTTYPE=text/html:We&#39\;re excited to gather innovators and problem solvers from across<br />\nRegion 3 for our Spring All Hands Meeting. Network. Listen to TED-style<br />\nSOVA success stories. Learn about GO Virginia projects. Share your ideas.<br />\n<br />\nThe Day&#39\;s Line-up:\n<ul>\n	<li><span style="color:#333333\;"><span style="font-family:arial\,sans-serif\;">Keynote speaker Larry Terry\, director of the UVA Weldon Cooper Center for Public Service. He&#39\;ll share local Southern Virginia success stories as they relate to&nbsp\;<em>Leadership in Action</em></span></span></li>\n	<li><span style="color:#333333\;"><span style="font-family:arial\,sans-serif\;"><a data-saferedirecturl="https://www.google.com/url?q=http://www.yourgv.com/news/education/techspark-making-a-mark-with-coding-club/article_1cf14964-201b-11e9-a80d-fb8ae3abd6e9.html&amp\;source=gmail&amp\;ust=1551979776492000&amp\;usg=AFQjCNH20ukqkrvFszD86JJt76qaOXfKUQ" href="http://www.yourgv.com/news/education/techspark-making-a-mark-with-coding-club/article_1cf14964-201b-11e9-a80d-fb8ae3abd6e9.html" style="color:rgb(17\, 85\, 204)\;" target="_blank">Girls who Code</a>\, Halifax County</span></span></li>\n	<li><span style="color:#333333\;"><span style="font-family:arial\,sans-serif\;"><span style="color:#333333\;"><span style="font-family:symbol\;"><span style="font-size:10pt\;">&nbsp\;</span></span></span><span style="color:#333333\;"><span style="font-family:arial\,sans-serif\;"><a data-saferedirecturl="https://www.google.com/url?q=http://www.sovanow.com/index.php?/news/article/southern_virginia_food_hub_wins_245600_grant/&amp\;source=gmail&amp\;ust=1551979776492000&amp\;usg=AFQjCNEN5_7R6PdAjJgvTUzyObflShhO_w" href="http://www.sovanow.com/index.php?/news/article/southern_virginia_food_hub_wins_245600_grant/" style="color:rgb(17\, 85\, 204)\;" target="_blank">The SOVA Food Hub</a>\, South Hill</span></span></span></span></li>\n	<li><span style="color:#333333\;"><span style="font-family:arial\,sans-serif\;"><span style="color:#333333\;"><span style="font-family:arial\,sans-serif\;"><span style="color:#333333\;"><span style="font-family:arial\,sans-serif\;"><a data-saferedirecturl="https://www.google.com/url?q=http://virnow.com/news/vir-economic-impact/&amp\;source=gmail&amp\;ust=1551979776492000&amp\;usg=AFQjCNHUgKGt9c2MOGNX-srgOKS-Oqw8Mw" href="http://virnow.com/news/vir-economic-impact/" style="color:rgb(17\, 85\, 204)\;" target="_blank">Racing Ahead &ndash\; The VIR Advantage</a>\, Alton</span></span></span></span></span></span></li>\n	<li><span style="color:#333333\;"><span style="font-family:arial\,sans-serif\;"><span style="color:#333333\;"><span style="font-family:arial\,sans-serif\;"><span style="color:#333333\;"><span style="font-family:arial\,sans-serif\;"><span style="color:#333333\;"><span style="font-family:arial\,sans-serif\;"><a data-saferedirecturl="https://www.google.com/url?q=http://www.sovanow.com/index.php?/news/article/buying_the_farm/&amp\;source=gmail&amp\;ust=1551979776492000&amp\;usg=AFQjCNFK5xBfQXAqz933m9fGbQCGtlNfhA" href="http://www.sovanow.com/index.php?/news/article/buying_the_farm/" style="color:rgb(17\, 85\, 204)\;" target="_blank">The Randolph-Henry Land Laboratory</a>\, Charlotte County</span></span></span></span></span></span></span></span></li>\n	<li><span style="color:#333333\;"><span style="font-family:arial\,sans-serif\;"><span style="color:#333333\;"><span style="font-family:arial\,sans-serif\;"><span style="color:#333333\;"><span style="font-family:arial\,sans-serif\;"><span style="color:#333333\;"><span style="font-family:arial\,sans-serif\;"><span style="color:#333333\;"><span style="font-family:arial\,sans-serif\;"><a data-saferedirecturl="https://www.google.com/url?q=https://govirginia3.org/ballad-brewing-company-follows-blueprint-for-success/&amp\;source=gmail&amp\;ust=1551979776492000&amp\;usg=AFQjCNHBNoCdmtUUGpkxJz_HYOblYlVqtA" href="https://govirginia3.org/ballad-brewing-company-follows-blueprint-for-success/" style="color:rgb(17\, 85\, 204)\;" target="_blank">Ballad Brewing Company</a>\, Danville and Farmville</span></span></span></span></span></span></span></span></span></span></li>\n	<li><span style="color:#333333\;"><span style="font-family:arial\,sans-serif\;"><span style="color:#333333\;"><span style="font-family:arial\,sans-serif\;"><span style="color:#333333\;"><span style="font-family:arial\,sans-serif\;"><span style="color:#333333\;"><span style="font-family:arial\,sans-serif\;"><span style="color:#333333\;"><span style="font-family:arial\,sans-serif\;"><span style="color:#333333\;"><span style="font-family:arial\,sans-serif\;">Plus\, project updates on GO Virginia initiatives</span></span></span></span></span></span></span></span></span></span></span></span></li>\n</ul>\n
LOCATION:The Prizery in South Boston
UID:e.845.12345
SEQUENCE:3
DTSTAMP:20260421T094038Z
URL:https://business.halifaxchamber.net/events/details/all-hands-meeting-with-go-virginia-region-3-12345
END:VEVENT

END:VCALENDAR
