BEGIN:VCALENDAR
VERSION:2.0
PRODID:-//ChamberMaster//Event Calendar 2.0//EN
METHOD:PUBLISH
X-PUBLISHED-TTL:P3D
REFRESH-INTERVAL:P3D
CALSCALE:GREGORIAN
BEGIN:VEVENT
DTSTART:20200201T013000Z
DTEND:20200201T050000Z
X-MICROSOFT-CDO-ALLDAYEVENT:FALSE
SUMMARY:All is Lost: Unplugged
DESCRIPTION:Come out to Badeaux's and enjoy All is Lost in an acoustic show featuring original music and covers!
X-ALT-DESC;FMTTYPE=text/html:<div>\n<div><span style="font-family:inherit">Come out to Badeaux&#39\;s and enjoy All is Lost in an acoustic show featuring original music and covers! </span></div>\n\n<div>&nbsp\;</div>\n</div>\n
LOCATION:Badeaux's Seafood And Grill 2001 Seymour Drive South Boston\, VA 24592
UID:e.845.17458
SEQUENCE:3
DTSTAMP:20260420T150551Z
URL:https://business.halifaxchamber.net/events/details/all-is-lost-unplugged-17458
END:VEVENT

END:VCALENDAR
