BEGIN:VCALENDAR
VERSION:2.0
PRODID:-//ChamberMaster//Event Calendar 2.0//EN
METHOD:PUBLISH
X-PUBLISHED-TTL:P3D
REFRESH-INTERVAL:P3D
CALSCALE:GREGORIAN
BEGIN:VEVENT
DTSTART:20190404T220000Z
DTEND:20190405T000000Z
X-MICROSOFT-CDO-ALLDAYEVENT:FALSE
SUMMARY:Alzheimer's Community Forum
DESCRIPTION:Learn about Alzheimer's dementia and memory loss. Bring a friend who has been affected by the disease. Share your thoughts about how we can help people in our community. Light refreshments will be provided.\n\n\n\nRegistration is requested. Call 800-272-3900 or visit alz.org/seva to register.
X-ALT-DESC;FMTTYPE=text/html:Learn about Alzheimer&#39\;s dementia and memory loss. Bring a friend who has been affected by the disease. Share your thoughts about how we can help people in our community. Light refreshments will be provided.<br />\n<br />\nRegistration is requested. Call 800-272-3900 or visit alz.org/seva to register.
LOCATION:Sentra Halifax Regional Hospital
UID:e.845.12350
SEQUENCE:3
DTSTAMP:20260421T075750Z
URL:https://business.halifaxchamber.net/events/details/alzheimer-s-community-forum-12350
END:VEVENT

END:VCALENDAR
