BEGIN:VCALENDAR
VERSION:2.0
PRODID:-//ChamberMaster//Event Calendar 2.0//EN
METHOD:PUBLISH
X-PUBLISHED-TTL:P3D
REFRESH-INTERVAL:P3D
CALSCALE:GREGORIAN
BEGIN:VEVENT
DTSTART:20190514T220000Z
DTEND:20190514T230000Z
X-MICROSOFT-CDO-ALLDAYEVENT:FALSE
SUMMARY:Alzheimer's/Dementia Support Group
DESCRIPTION:Alzheimer's Association caregiver support groups\, conducted by trained facilitators\, are a safe place for caregivers\, family and friends of persons with dementia to develop a support system\, exchange practical information on caregiving challenges and possible solutions\, talk through issues and ways of coping\, share feelings\, needs and concerns\, and learn more about community resources.
X-ALT-DESC;FMTTYPE=text/html:Alzheimer&#39\;s Association caregiver support groups\, conducted by trained facilitators\, are a safe place for caregivers\, family and friends of persons with dementia to develop a support system\, exchange practical information on caregiving challenges and possible solutions\, talk through issues and ways of coping\, share feelings\, needs and concerns\, and learn more about community resources.
LOCATION:Berry Hill Health and Rehabilitation Center\, 621 Berry Hill Road\, South Boston\, VA
UID:e.845.12478
SEQUENCE:3
DTSTAMP:20260421T062400Z
URL:https://business.halifaxchamber.net/events/details/alzheimer-s-dementia-support-group-12478
END:VEVENT

END:VCALENDAR
