BEGIN:VCALENDAR
VERSION:2.0
PRODID:-//ChamberMaster//Event Calendar 2.0//EN
METHOD:PUBLISH
X-PUBLISHED-TTL:P3D
REFRESH-INTERVAL:P3D
CALSCALE:GREGORIAN
BEGIN:VEVENT
DTSTART:20190220T213000Z
DTEND:20190220T230000Z
X-MICROSOFT-CDO-ALLDAYEVENT:FALSE
SUMMARY:Alzheimer's Support Group
DESCRIPTION:Join others who are caring for someone with Alzheimer's disease or similar form of dementia. Call 434-517-7534 for more information
X-ALT-DESC;FMTTYPE=text/html:Join others who are caring for someone with Alzheimer&#39\;s disease or similar form of dementia. Call 434-517-7534 for more information
LOCATION:Sentara Woodview 103 Rose Hill Drive South Boston\, VA 24592
UID:e.845.12009
SEQUENCE:3
DTSTAMP:20260421T105715Z
URL:https://business.halifaxchamber.net/events/details/alzheimer-s-support-group-12009
END:VEVENT

END:VCALENDAR
