BEGIN:VCALENDAR
VERSION:2.0
PRODID:-//ChamberMaster//Event Calendar 2.0//EN
METHOD:PUBLISH
X-PUBLISHED-TTL:P3D
REFRESH-INTERVAL:P3D
CALSCALE:GREGORIAN
BEGIN:VEVENT
DTSTART:20171006T110000Z
DTEND:20171006T190000Z
X-MICROSOFT-CDO-ALLDAYEVENT:FALSE
SUMMARY:Alzheimer's Yard Sale
DESCRIPTION:Please join Sentara Woodview for their Annual Alzheimer's Yard Sale\, October 6 from 7 a.m. to 3 p.m. This yard sale is located on Sentara Woodview's front lawn. Hot Dogs will be served from 11:30 a.m. to 1:30 p.m. Donations are being accepted now.
X-ALT-DESC;FMTTYPE=text/html:<span style="color: rgb(75\, 79\, 86)\; font-family: &quot\;SF Optimized&quot\;\, system-ui\, -apple-system\, system-ui\, &quot\;.SFNSText-Regular&quot\;\, sans-serif\; font-size: 14px\; letter-spacing: -0.12px\;">Please join Sentara Woodview for their Annual Alzheimer&#39\;s Yard Sale\, October 6 from 7 a.m. to 3 p.m. This yard sale is located on Sentara Woodview&#39\;s front lawn. Hot Dogs will be served from 11:30 a.m. to 1:30 p.m. Donations are being accepted now.</span>
LOCATION:The Woodview 103 Rosehill Dr. South Boston\, VA
UID:e.845.7117
SEQUENCE:3
DTSTAMP:20260422T135849Z
URL:https://business.halifaxchamber.net/events/details/alzheimer-s-yard-sale-7117
END:VEVENT

END:VCALENDAR
