BEGIN:VCALENDAR
VERSION:2.0
PRODID:-//ChamberMaster//Event Calendar 2.0//EN
METHOD:PUBLISH
X-PUBLISHED-TTL:P3D
REFRESH-INTERVAL:P3D
CALSCALE:GREGORIAN
BEGIN:VEVENT
DTSTART:20190110T002500Z
DTEND:20190110T020000Z
X-MICROSOFT-CDO-ALLDAYEVENT:FALSE
SUMMARY:American Legion Post 8 Bingo
DESCRIPTION:American Legion Post 8 Bingo
X-ALT-DESC;FMTTYPE=text/html:American Legion Post 8 Bingo
LOCATION:1710 Jeffress Blvd. South Boston\, VA
UID:e.845.11694
SEQUENCE:3
DTSTAMP:20260421T140107Z
URL:https://business.halifaxchamber.net/events/details/american-legion-post-8-bingo-11694
END:VEVENT

END:VCALENDAR
