BEGIN:VCALENDAR
VERSION:2.0
PRODID:-//ChamberMaster//Event Calendar 2.0//EN
METHOD:PUBLISH
X-PUBLISHED-TTL:P3D
REFRESH-INTERVAL:P3D
CALSCALE:GREGORIAN
BEGIN:VEVENT
DTSTART:20200915T150000Z
DTEND:20200915T200000Z
X-MICROSOFT-CDO-ALLDAYEVENT:FALSE
SUMMARY:American Red Cross Blood Drive
DESCRIPTION:Come out and donate blood to save a life
X-ALT-DESC;FMTTYPE=text/html:Come out and donate blood to save a life
LOCATION:Patrick Henry's Red Hill Casey Education Center 1250 Red Hill Road Brookneal\, VA 24528
UID:e.845.17759
SEQUENCE:3
DTSTAMP:20260420T050032Z
URL:https://business.halifaxchamber.net/events/details/american-red-cross-blood-drive-17759
END:VEVENT

END:VCALENDAR
