BEGIN:VCALENDAR
VERSION:2.0
PRODID:-//ChamberMaster//Event Calendar 2.0//EN
METHOD:PUBLISH
X-PUBLISHED-TTL:P3D
REFRESH-INTERVAL:P3D
CALSCALE:GREGORIAN
BEGIN:VEVENT
DTSTART:20210401T150000Z
DTEND:20210401T200000Z
X-MICROSOFT-CDO-ALLDAYEVENT:FALSE
SUMMARY:American Red Cross Blood Drive
DESCRIPTION:We are advising you to schedule your time slot\, so please click here: https://www.redcrossblood.org/give.html/donation-time\n\nExtra precautionary measures will be in place. Red Cross staff and volunteers will have masks and gloves. Your temperature will be taken before you enter the building. A mask is available to all donors upon request however\, you can wear your own.\n\nEverything will be cleaned before and after each donor\, gloves will be changed between donors. The 6' social distancing policy will be in effect for all donors. No one under the age of 16 will be allowed in the building. A friend or spouse is not allowed to come and sit beside you while you are donating blood.\n\nOn the day of the blood drive\, you can visit www.redcrossblood.org/rapidpass to fill out your health information prior to arrival\, which will speed up the process.
X-ALT-DESC;FMTTYPE=text/html:<span style="color: rgb(5\, 5\, 5)\; font-family: system-ui\, -apple-system\, system-ui\, &quot\;.SFNSText-Regular&quot\;\, sans-serif\; font-size: 15px\;">We are advising you to schedule your time slot\, so please click here:&nbsp\;</span><a class="oajrlxb2 g5ia77u1 qu0x051f esr5mh6w e9989ue4 r7d6kgcz rq0escxv nhd2j8a9 nc684nl6 p7hjln8o kvgmc6g5 cxmmr5t8 oygrvhab hcukyx3x jb3vyjys rz4wbd8a qt6c0cv9 a8nywdso i1ao9s8h esuyzwwr f1sip0of lzcic4wl py34i1dx gpro0wi8" href="https://www.redcrossblood.org/give.html/donation-time?fbclid=IwAR2eQwdk9v1w3DnM8Negntk-USEmfw533bTUNegellAVusKfR1ucKHzc7oU" rel="nofollow noopener" role="link" style="color: var(--blue-link)\; cursor: pointer\; text-decoration-line: none\; outline: none\; list-style: none\; border-width: 0px\; border-style: initial\; border-color: initial\; padding: 0px\; margin: 0px\; touch-action: manipulation\; display: inline\; -webkit-tap-highlight-color: transparent\; box-sizing: border-box\; font-family: system-ui\, -apple-system\, system-ui\, &quot\;.SFNSText-Regular&quot\;\, sans-serif\; font-size: 15px\;" tabindex="0" target="_blank">https://www.redcrossblood.org/give.html/donation-time</a><br style="color: rgb(5\, 5\, 5)\; font-family: system-ui\, -apple-system\, system-ui\, &quot\;.SFNSText-Regular&quot\;\, sans-serif\; font-size: 15px\;" />\n<span style="color: rgb(5\, 5\, 5)\; font-family: system-ui\, -apple-system\, system-ui\, &quot\;.SFNSText-Regular&quot\;\, sans-serif\; font-size: 15px\;">Extra precautionary measures will be in place. Red Cross staff and volunteers will have masks and gloves. Your temperature will be taken before you enter the building. A mask is available to all donors upon request however\, you can wear your own.</span><br style="color: rgb(5\, 5\, 5)\; font-family: system-ui\, -apple-system\, system-ui\, &quot\;.SFNSText-Regular&quot\;\, sans-serif\; font-size: 15px\;" />\n<span style="color: rgb(5\, 5\, 5)\; font-family: system-ui\, -apple-system\, system-ui\, &quot\;.SFNSText-Regular&quot\;\, sans-serif\; font-size: 15px\;">Everything will be cleaned before and after each donor\, gloves will be changed between donors. The 6&#39\; social distancing policy will be in effect for all donors. No one under the age of 16 will be allowed in the building. A friend or spouse is not allowed to come and sit beside you while you are donating blood.</span><br style="color: rgb(5\, 5\, 5)\; font-family: system-ui\, -apple-system\, system-ui\, &quot\;.SFNSText-Regular&quot\;\, sans-serif\; font-size: 15px\;" />\n<span style="color: rgb(5\, 5\, 5)\; font-family: system-ui\, -apple-system\, system-ui\, &quot\;.SFNSText-Regular&quot\;\, sans-serif\; font-size: 15px\;">On the day of the blood drive\, you can visit&nbsp\;</span><a class="oajrlxb2 g5ia77u1 qu0x051f esr5mh6w e9989ue4 r7d6kgcz rq0escxv nhd2j8a9 nc684nl6 p7hjln8o kvgmc6g5 cxmmr5t8 oygrvhab hcukyx3x jb3vyjys rz4wbd8a qt6c0cv9 a8nywdso i1ao9s8h esuyzwwr f1sip0of lzcic4wl py34i1dx gpro0wi8" href="https://l.facebook.com/l.php?u=https%3A%2F%2Fwww.redcrossblood.org%2Frapidpass%3Ffbclid%3DIwAR0EpwMAZAI51dhK8jB-tBZITK-33SKyAET134_HBRWHdJrHyaSFE-DYuQw&amp\;h=AT3dRHTmqtf-YhCV5yMUPVrkOCFtAx3VMnVr2ViE4iClJQAY61tCFR5GRxLr4jF85C3qAIEANbacDLUDpcRr3XV_gC9U_azoxajH1kT2WZ3ZFTz4n5ZAYetXE_p-4Dt_dRb0QRM&amp\;__tn__=q&amp\;c[0]=AT1ISSnOfxv7gZZVZhl6tQpXESaZ57HVbKB0ukxp6FoIeCDLc9oZ8wAANSelA_ZAsbsumSMF39y9DzSMY9RkZ0uurGumx3Uu1Z0KnOj9fWWLdjqQqPM28UhL_RWglVfsEccvt61AJydgUqRXwm2aJ5hHpTD_O_o9FRbgQ_Wj5URKIL0" rel="nofollow noopener" role="link" style="color: var(--blue-link)\; cursor: pointer\; text-decoration-line: none\; outline: none\; list-style: none\; border-width: 0px\; border-style: initial\; border-color: initial\; padding: 0px\; margin: 0px\; touch-action: manipulation\; display: inline\; -webkit-tap-highlight-color: transparent\; box-sizing: border-box\; font-family: system-ui\, -apple-system\, system-ui\, &quot\;.SFNSText-Regular&quot\;\, sans-serif\; font-size: 15px\;" tabindex="0" target="_blank">www.redcrossblood.org/rapidpass</a><span style="color: rgb(5\, 5\, 5)\; font-family: system-ui\, -apple-system\, system-ui\, &quot\;.SFNSText-Regular&quot\;\, sans-serif\; font-size: 15px\;">&nbsp\;to fill out your health information prior to arrival\, which will speed up the process.</span>
LOCATION:Patrick Henry's Red Hill 1250 Red Hill Rd. Brookneal\, VA
UID:e.845.17880
SEQUENCE:3
DTSTAMP:20260419T165132Z
URL:https://business.halifaxchamber.net/events/details/american-red-cross-blood-drive-17880
END:VEVENT

END:VCALENDAR
