BEGIN:VCALENDAR
VERSION:2.0
PRODID:-//ChamberMaster//Event Calendar 2.0//EN
METHOD:PUBLISH
X-PUBLISHED-TTL:P3D
REFRESH-INTERVAL:P3D
CALSCALE:GREGORIAN
BEGIN:VEVENT
DTSTART:20170727T130000Z
DTEND:20170727T160000Z
X-MICROSOFT-CDO-ALLDAYEVENT:FALSE
SUMMARY:AmeriStaff Employment Event
DESCRIPTION:AmeriStaff is holding an Employment Event Thursday\, July 27th from 9AM - Noon for spraying operators\, grinder operators\, and parts repair associates. \n\n\n\nDress for success and bring your resume. \n\n\n\nCall (434) 575-0027 for job information.
X-ALT-DESC;FMTTYPE=text/html:AmeriStaff is holding an Employment Event Thursday\, July 27th from 9AM - Noon for spraying operators\, grinder operators\, and parts repair associates.&nbsp\;<br />\n<br />\nDress for success and bring your resume.&nbsp\;<br />\n<br />\nCall (434) 575-0027 for job information.&nbsp\;
LOCATION:AmeriStaff 4130 Halifax Road South Boston\, VA
UID:e.845.7022
SEQUENCE:3
DTSTAMP:20260422T231927Z
URL:https://business.halifaxchamber.net/events/details/ameristaff-employment-event-7022
END:VEVENT

END:VCALENDAR
