BEGIN:VCALENDAR
VERSION:2.0
PRODID:-//ChamberMaster//Event Calendar 2.0//EN
METHOD:PUBLISH
X-PUBLISHED-TTL:P3D
REFRESH-INTERVAL:P3D
CALSCALE:GREGORIAN
BEGIN:VEVENT
DTSTART:20210209T150000Z
DTEND:20210209T190000Z
X-MICROSOFT-CDO-ALLDAYEVENT:FALSE
SUMMARY:AmeriStaff & Faneuil Hiring Event
DESCRIPTION:On the spot interviews for customer service representatives with work from home opportunities available.\n\nMask and Temperature checks required.\n\nFor more information\, cal 833-job-2day.
X-ALT-DESC;FMTTYPE=text/html:On the spot interviews for customer service representatives with work from home opportunities available.<br />\nMask and Temperature checks required.<br />\nFor more information\, cal 833-job-2day.
LOCATION:On-Site at Faneuil 1100 Confroy Dr. South Boston\, VA 24592 OR AmeriStaff 4130 Halifax Road South Boston\, VA 24592
UID:e.845.17837
SEQUENCE:3
DTSTAMP:20260419T202456Z
URL:https://business.halifaxchamber.net/events/details/ameristaff-faneuil-hiring-event-17837
END:VEVENT

END:VCALENDAR
