BEGIN:VCALENDAR
VERSION:2.0
PRODID:-//ChamberMaster//Event Calendar 2.0//EN
METHOD:PUBLISH
X-PUBLISHED-TTL:P3D
REFRESH-INTERVAL:P3D
CALSCALE:GREGORIAN
BEGIN:VEVENT
DTSTART:20210219T140000Z
DTEND:20210219T200000Z
X-MICROSOFT-CDO-ALLDAYEVENT:FALSE
SUMMARY:AmeriStaff Hiring Event
DESCRIPTION:AmeriStaff in South Boston\, VA is hosting a Hiring Event on February 19th from 9 AM to 3 PM! Apply and interview to have a chance to win a giveaway!
X-ALT-DESC;FMTTYPE=text/html:AmeriStaff in South Boston\, VA is hosting a Hiring Event on February 19th from 9 AM to 3 PM! Apply and interview to have a chance to win a giveaway!
LOCATION:4130 Halifax Rd. South Boston\, VA 24592
UID:e.845.17836
SEQUENCE:3
DTSTAMP:20260419T183552Z
URL:https://business.halifaxchamber.net/events/details/ameristaff-hiring-event-02-19-2021-17836
END:VEVENT

END:VCALENDAR
