BEGIN:VCALENDAR
VERSION:2.0
PRODID:-//ChamberMaster//Event Calendar 2.0//EN
METHOD:PUBLISH
X-PUBLISHED-TTL:P3D
REFRESH-INTERVAL:P3D
CALSCALE:GREGORIAN
BEGIN:VEVENT
DTSTART:20160921T130000Z
DTEND:20160921T160000Z
X-MICROSOFT-CDO-ALLDAYEVENT:FALSE
SUMMARY:Ameristaff Hiring Event
DESCRIPTION:Hiring Event:\n\nForklift Operators ( Previous experience required)\n\nGeneral Laborers\n\nWarehouse Workers ( Lift up to 75 lbs.)\n\nMachine Operators ( Previous experience required)\n\nProduction Workers\n\nOperator Assistant ( 12hrs./Located in Roxboro & Oxford)\n\nBilingual Customer Service Representative ( Experience required\; Fluent in English/Spanish\; Speaking\, Writing & Reading)\n\n\n\nCriminal Background Check and Drug Test Required\n\nAccepting Applications Daily
X-ALT-DESC;FMTTYPE=text/html:Hiring Event:<br />\nForklift Operators ( Previous experience required)<br />\nGeneral Laborers<br />\nWarehouse Workers ( Lift up to 75 lbs.)<br />\nMachine Operators ( Previous experience required)<br />\nProduction Workers<br />\nOperator Assistant ( 12hrs./Located in Roxboro &amp\; Oxford)<br />\nBilingual Customer Service Representative ( Experience required\; Fluent in English/Spanish\; Speaking\, Writing &amp\; Reading)<br />\n<br />\nCriminal Background Check and Drug Test Required<br />\nAccepting Applications Daily
LOCATION:4130 Halifax Road\, South Boston \, VA 24592
UID:e.845.5710
SEQUENCE:3
DTSTAMP:20260425T003805Z
URL:https://business.halifaxchamber.net/events/details/ameristaff-hiring-event-5710
END:VEVENT

END:VCALENDAR
