BEGIN:VCALENDAR
VERSION:2.0
PRODID:-//ChamberMaster//Event Calendar 2.0//EN
METHOD:PUBLISH
X-PUBLISHED-TTL:P3D
REFRESH-INTERVAL:P3D
CALSCALE:GREGORIAN
BEGIN:VEVENT
DTSTART:20190130T150000Z
DTEND:20190130T190000Z
X-MICROSOFT-CDO-ALLDAYEVENT:FALSE
SUMMARY:Ameristaff Hiring Event for ABB January 30\, 2019
DESCRIPTION:Immediate Temp To Hire For ABB\n\nManufacturing Team Associates\n\nPay $12 per hour\n\n2nd and 3rd shift are available \, must be able to train on 1st shift\n\nPotential Temp-To-Hire based on performance\, attendance\, and conduct\n\nExperience with operating industrial equipment\, including cranes and forklifts is preferred\n\nBasic Computer Skills are required\n\nHigh school diploma/GED required
X-ALT-DESC;FMTTYPE=text/html:Immediate Temp To Hire For ABB<br />\nManufacturing Team Associates<br />\nPay $12 per hour<br />\n2nd and 3rd shift are available \, must be able to train on 1st shift<br />\nPotential Temp-To-Hire based on performance\, attendance\, and conduct<br />\nExperience with operating industrial equipment\, including cranes and forklifts is preferred<br />\nBasic Computer Skills are required<br />\nHigh school diploma/GED required
LOCATION:Ameristaff 4130 Halifax Road South Boston\, VA 24592
UID:e.845.11690
SEQUENCE:3
DTSTAMP:20260421T140418Z
URL:https://business.halifaxchamber.net/events/details/ameristaff-hiring-event-for-abb-january-30-2019-11690
END:VEVENT

END:VCALENDAR
