BEGIN:VCALENDAR
VERSION:2.0
PRODID:-//ChamberMaster//Event Calendar 2.0//EN
METHOD:PUBLISH
X-PUBLISHED-TTL:P3D
REFRESH-INTERVAL:P3D
CALSCALE:GREGORIAN
BEGIN:VEVENT
DTSTART:20160223T140000Z
DTEND:20160223T170000Z
X-MICROSOFT-CDO-ALLDAYEVENT:FALSE
SUMMARY:Ameristaff Job Fair
DESCRIPTION:Recruiting for:\n\nMachine Operators\n\nGeneral Laborers\n\nWarehouse Workers\n\nTire Technician\n\nMaintenance Technician\n\nLandscaping Tech\n\nSales/ Customer Service Rep\n\nForklift Operators(Manufacturing setting)\n\nPressman (previous experience required)\n\nShipping Clerk (previous experience required)\n\nDriver-Safety Manager/ Dispatcher (previous experience required)
X-ALT-DESC;FMTTYPE=text/html:<br />\nRecruiting for:<br />\nMachine Operators<br />\nGeneral Laborers<br />\nWarehouse Workers<br />\nTire Technician<br />\nMaintenance Technician<br />\nLandscaping Tech<br />\nSales/ Customer Service Rep<br />\nForklift Operators(Manufacturing setting)<br />\nPressman (previous experience required)<br />\nShipping Clerk (previous experience required)<br />\nDriver-Safety Manager/ Dispatcher (previous experience required)<br />\n&nbsp\;
LOCATION:4130 Halifax Road South Boston\, VA
UID:e.845.4574
SEQUENCE:3
DTSTAMP:20260425T111632Z
URL:https://business.halifaxchamber.net/events/details/ameristaff-job-fair-02-23-2016-4574
END:VEVENT

END:VCALENDAR
