BEGIN:VCALENDAR
VERSION:2.0
PRODID:-//ChamberMaster//Event Calendar 2.0//EN
METHOD:PUBLISH
X-PUBLISHED-TTL:P3D
REFRESH-INTERVAL:P3D
CALSCALE:GREGORIAN
BEGIN:VEVENT
DTSTART:20201111T140000Z
DTEND:20201111T190000Z
X-MICROSOFT-CDO-ALLDAYEVENT:FALSE
SUMMARY:AmeriStaff Job Fair
DESCRIPTION:AmeriStaff is hosting multiple Job Fairs on November 11th from 9 AM to 2 PM at the AmeriStaff offices in Martinsville\, Eden\, Rocky Mount\, Danville\, and South Hill\, as well as Annin Flagmakers in South Boston\, VA! Come see us to apply and interview for our 100's of job openings!
X-ALT-DESC;FMTTYPE=text/html:AmeriStaff is hosting multiple Job Fairs on November 11th from 9 AM to 2 PM at the AmeriStaff offices in Martinsville\, Eden\, Rocky Mount\, Danville\, and South Hill\, as well as Annin Flagmakers in South Boston\, VA! Come see us to apply and interview for our 100&#39\;s of job openings!
LOCATION:AmeriStaff South Boston
UID:e.845.17809
SEQUENCE:3
DTSTAMP:20260419T234723Z
URL:https://business.halifaxchamber.net/events/details/ameristaff-job-fair-11-11-2020-17809
END:VEVENT

END:VCALENDAR
