BEGIN:VCALENDAR
VERSION:2.0
PRODID:-//ChamberMaster//Event Calendar 2.0//EN
METHOD:PUBLISH
X-PUBLISHED-TTL:P3D
REFRESH-INTERVAL:P3D
CALSCALE:GREGORIAN
BEGIN:VEVENT
DTSTART:20190626T140000Z
DTEND:20190626T180000Z
X-MICROSOFT-CDO-ALLDAYEVENT:FALSE
SUMMARY:AmeriStaff Job Fair
DESCRIPTION:AmeriStaff will be holding a South Boston In-House Job Fair. \n\nHiring for:\n\n	Welders\n	Painters\n	Assemblers\n	Experienced Sewing Machine Operators
X-ALT-DESC;FMTTYPE=text/html:AmeriStaff will be holding a South Boston In-House Job Fair.&nbsp\;<br />\nHiring for:\n<ul>\n	<li>Welders</li>\n	<li>Painters</li>\n	<li>Assemblers</li>\n	<li>Experienced Sewing Machine Operators</li>\n</ul>\n
LOCATION:4130 Halifax Road South Boston\, Va 24592
UID:e.845.13200
SEQUENCE:3
DTSTAMP:20260421T044321Z
URL:https://business.halifaxchamber.net/events/details/ameristaff-job-fair-13200
END:VEVENT

END:VCALENDAR
