BEGIN:VCALENDAR
VERSION:2.0
PRODID:-//ChamberMaster//Event Calendar 2.0//EN
METHOD:PUBLISH
X-PUBLISHED-TTL:P3D
REFRESH-INTERVAL:P3D
CALSCALE:GREGORIAN
BEGIN:VEVENT
DTSTART:20190731T140000Z
DTEND:20190731T180000Z
X-MICROSOFT-CDO-ALLDAYEVENT:FALSE
SUMMARY:AmeriStaff Job Fair
DESCRIPTION:AmeriStaff will be holding a South Boston In-House Job Fair.\n\n\n\nHiring for:\n\n	Experienced welders\, painters\, & assembly workers\n	Experienced sewing machine operators
X-ALT-DESC;FMTTYPE=text/html:AmeriStaff will be holding a South Boston In-House Job Fair.<br />\n<br />\nHiring for:\n<ul>\n	<li>Experienced welders\, painters\, &amp\; assembly workers</li>\n	<li>Experienced sewing machine operators</li>\n</ul>\n
LOCATION:4130 Halifax Road South Boston\, VA 24592
UID:e.845.13238
SEQUENCE:3
DTSTAMP:20260421T044322Z
URL:https://business.halifaxchamber.net/events/details/ameristaff-job-fair-13238
END:VEVENT

END:VCALENDAR
