BEGIN:VCALENDAR
VERSION:2.0
PRODID:-//ChamberMaster//Event Calendar 2.0//EN
METHOD:PUBLISH
X-PUBLISHED-TTL:P3D
REFRESH-INTERVAL:P3D
CALSCALE:GREGORIAN
BEGIN:VEVENT
DTSTART:20191106T150000Z
DTEND:20191106T190000Z
X-MICROSOFT-CDO-ALLDAYEVENT:FALSE
SUMMARY:AmeriStaff Job Fair
DESCRIPTION:AmeriStaff is looking for experienced machine operators\, assembly workers\, receptionist\, and production shipping clerk.
X-ALT-DESC;FMTTYPE=text/html:AmeriStaff is looking for experienced machine operators\, assembly workers\, receptionist\, and production shipping clerk.
LOCATION:4130 Halifax Road South Boston\, VA 24592
UID:e.845.15523
SEQUENCE:3
DTSTAMP:20260420T215147Z
URL:https://business.halifaxchamber.net/events/details/ameristaff-job-fair-15523
END:VEVENT

END:VCALENDAR
