BEGIN:VCALENDAR
VERSION:2.0
PRODID:-//ChamberMaster//Event Calendar 2.0//EN
METHOD:PUBLISH
X-PUBLISHED-TTL:P3D
REFRESH-INTERVAL:P3D
CALSCALE:GREGORIAN
BEGIN:VEVENT
DTSTART:20210113T140000Z
DTEND:20210113T190000Z
X-MICROSOFT-CDO-ALLDAYEVENT:FALSE
SUMMARY:AmeriStaff Job Fair
DESCRIPTION:AmeriStaff will be hosting a company-wide job fair. New applicants have a chance to win a gift card!
X-ALT-DESC;FMTTYPE=text/html:AmeriStaff will be hosting a company-wide job fair. New applicants have a chance to win a gift card!
LOCATION:AmeriStaff 4130 Halifax Rd. South Boston\, VA 24592
UID:e.845.17822
SEQUENCE:3
DTSTAMP:20260419T202243Z
URL:https://business.halifaxchamber.net/events/details/ameristaff-job-fair-17822
END:VEVENT

END:VCALENDAR
