BEGIN:VCALENDAR
VERSION:2.0
PRODID:-//ChamberMaster//Event Calendar 2.0//EN
METHOD:PUBLISH
X-PUBLISHED-TTL:P3D
REFRESH-INTERVAL:P3D
CALSCALE:GREGORIAN
BEGIN:VEVENT
DTSTART:20160830T130000Z
DTEND:20160830T160000Z
X-MICROSOFT-CDO-ALLDAYEVENT:FALSE
SUMMARY:Ameristaff Job Fair
DESCRIPTION:AMERISTAFF JOB FAIR\n\nRecruiting For:\n\nForklift Operators\n\nGeneral Laborers\n\nProduction Workers\n\nMachine Operators\n\nAdministrative Assistant (2-5 years experience required)\n\nWarehouse Workers (Lift up to 75 lbs.)\n\nOperator Assistant (12 hour shifts- Roxboro/Oxford)\n\nAdministrative Assistant (Part-time: Quickbook experience)\n\nCooks (2nd shift\, experience required)
X-ALT-DESC;FMTTYPE=text/html:AMERISTAFF JOB FAIR<br />\nRecruiting For:<br />\nForklift Operators<br />\nGeneral Laborers<br />\nProduction Workers<br />\nMachine Operators<br />\nAdministrative Assistant (2-5 years experience required)<br />\nWarehouse Workers (Lift up to 75 lbs.)<br />\nOperator Assistant (12 hour shifts- Roxboro/Oxford)<br />\nAdministrative Assistant (Part-time: Quickbook experience)<br />\nCooks (2nd shift\, experience required)<br />\n<br />\n&nbsp\;
LOCATION:4130 Halifax Road South Boston\, VA 24592
UID:e.845.5707
SEQUENCE:3
DTSTAMP:20260425T005630Z
URL:https://business.halifaxchamber.net/events/details/ameristaff-job-fair-5707
END:VEVENT

END:VCALENDAR
