BEGIN:VCALENDAR
VERSION:2.0
PRODID:-//ChamberMaster//Event Calendar 2.0//EN
METHOD:PUBLISH
X-PUBLISHED-TTL:P3D
REFRESH-INTERVAL:P3D
CALSCALE:GREGORIAN
BEGIN:VEVENT
DTSTART:20170228T150000Z
DTEND:20170228T190000Z
X-MICROSOFT-CDO-ALLDAYEVENT:FALSE
SUMMARY:AmeriStaff Job Fair
DESCRIPTION:AmeriStaff will be holding a job fair on Tuesday\, February 28th from 10AM - 2PM. \n\n\n\nThe following positions are available:\n\nConcrete Finisher\n\nWarehouse Worker\n\nManufacturing Worker\n\nMaintenance Mechanic
X-ALT-DESC;FMTTYPE=text/html:AmeriStaff will be holding a job fair on Tuesday\, February 28th from 10AM - 2PM.&nbsp\;<br />\n<br />\nThe following positions are available:<br />\nConcrete Finisher<br />\nWarehouse Worker<br />\nManufacturing Worker<br />\nMaintenance Mechanic<br />\n<br />\n&nbsp\;
LOCATION:South Boston Workforce Center 2506 Houghton Ave. South Boston\, VA 24592
UID:e.845.5792
SEQUENCE:3
DTSTAMP:20260424T162533Z
URL:https://business.halifaxchamber.net/events/details/ameristaff-job-fair-5792
END:VEVENT

END:VCALENDAR
