BEGIN:VCALENDAR
VERSION:2.0
PRODID:-//ChamberMaster//Event Calendar 2.0//EN
METHOD:PUBLISH
X-PUBLISHED-TTL:P3D
REFRESH-INTERVAL:P3D
CALSCALE:GREGORIAN
BEGIN:VEVENT
DTSTART:20170308T140000Z
DTEND:20170308T170000Z
X-MICROSOFT-CDO-ALLDAYEVENT:FALSE
SUMMARY:AmeriStaff Job Fair
DESCRIPTION:AmeriStaff will be holding a job fair on Wednesday\, March 8th from 9:00 AM - 12:00 PM at 4130 Halifax Road.\n\n\n\nIf you can't make it on March 8th\, another job fair will be held on March 22.\n\n\n\nSave time and apply online or email your resume to tcompton@ameristaff.net.
X-ALT-DESC;FMTTYPE=text/html:AmeriStaff will be holding a job fair on Wednesday\, March 8th from 9:00&nbsp\;AM - 12:00&nbsp\;PM at 4130 Halifax Road.<br />\n<br />\nIf you can&#39\;t make it on March 8th\, another job fair will be held on March 22.<br />\n<br />\nSave time and apply online or email your resume to tcompton@ameristaff.net.<br />\n<br />\n&nbsp\;
LOCATION:4130 Halifax Road South Boston\, VA 24592
UID:e.845.5814
SEQUENCE:3
DTSTAMP:20260424T145354Z
URL:https://business.halifaxchamber.net/events/details/ameristaff-job-fair-5814
END:VEVENT

END:VCALENDAR
