BEGIN:VCALENDAR
VERSION:2.0
PRODID:-//ChamberMaster//Event Calendar 2.0//EN
METHOD:PUBLISH
X-PUBLISHED-TTL:P3D
REFRESH-INTERVAL:P3D
CALSCALE:GREGORIAN
BEGIN:VEVENT
DTSTART:20170621T130000Z
DTEND:20170621T160000Z
X-MICROSOFT-CDO-ALLDAYEVENT:FALSE
SUMMARY:AmeriStaff Job Fair
DESCRIPTION:AmeriStaff is holding a job fair Wednesday\, June 21st from 9AM - noon. Recruiting for Production Workers and Warehouse workers. Interviews will be conducting on-site. To save time apply online or email your resume to tcompton@ameristaff.net.
X-ALT-DESC;FMTTYPE=text/html:AmeriStaff is holding a job fair Wednesday\, June 21st from 9AM - noon. Recruiting for Production Workers and Warehouse workers. Interviews will be conducting on-site. To save time apply online or email your resume to tcompton@ameristaff.net.
LOCATION:Ameristaff 4130 Halifax Road South Boston\, VA 24592
UID:e.845.5996
SEQUENCE:3
DTSTAMP:20260422T232625Z
URL:https://business.halifaxchamber.net/events/details/ameristaff-job-fair-5996
END:VEVENT

END:VCALENDAR
