BEGIN:VCALENDAR
VERSION:2.0
PRODID:-//ChamberMaster//Event Calendar 2.0//EN
METHOD:PUBLISH
X-PUBLISHED-TTL:P3D
REFRESH-INTERVAL:P3D
CALSCALE:GREGORIAN
BEGIN:VEVENT
DTSTART:20170830T130000Z
DTEND:20170830T160000Z
X-MICROSOFT-CDO-ALLDAYEVENT:FALSE
SUMMARY:AmeriStaff Job Fair
DESCRIPTION:AmeriStaff is holding a job fair Wednesday\, August 30th from 9AM - noon. Recruiting for Shipping and Receiving Associates and Warehouse workers. Interviews will be conducting on-site.
X-ALT-DESC;FMTTYPE=text/html:AmeriStaff is holding a job fair Wednesday\, August 30th&nbsp\;from 9AM - noon. Recruiting for Shipping&nbsp\;and Receiving Associates and Warehouse workers. Interviews will be conducting on-site.&nbsp\;
LOCATION:Ameristaff 4130 Halifax Road South Boston\, VA 24592
UID:e.845.7080
SEQUENCE:3
DTSTAMP:20260422T175529Z
URL:https://business.halifaxchamber.net/events/details/ameristaff-job-fair-7080
END:VEVENT

END:VCALENDAR
