BEGIN:VCALENDAR
VERSION:2.0
PRODID:-//ChamberMaster//Event Calendar 2.0//EN
METHOD:PUBLISH
X-PUBLISHED-TTL:P3D
REFRESH-INTERVAL:P3D
CALSCALE:GREGORIAN
BEGIN:VEVENT
DTSTART:20170920T130000Z
DTEND:20170920T160000Z
X-MICROSOFT-CDO-ALLDAYEVENT:FALSE
SUMMARY:AmeriStaff Job Fair
DESCRIPTION:AmeriStaff is holding a job fair Wednesday\, September 20 from 9AM - noon. Recruiting for production workers\, industrial workers\, and warehouse workers. Interviews will be conducting on-site.
X-ALT-DESC;FMTTYPE=text/html:AmeriStaff is holding a job fair Wednesday\, September 20 from 9AM - noon. Recruiting for production workers\, industrial workers\, and warehouse workers. Interviews will be conducting on-site.&nbsp\;
LOCATION:Ameristaff 4130 Halifax Road South Boston\, VA 24592
UID:e.845.7086
SEQUENCE:3
DTSTAMP:20260422T153908Z
URL:https://business.halifaxchamber.net/events/details/ameristaff-job-fair-7086
END:VEVENT

END:VCALENDAR
