BEGIN:VCALENDAR
VERSION:2.0
PRODID:-//ChamberMaster//Event Calendar 2.0//EN
METHOD:PUBLISH
X-PUBLISHED-TTL:P3D
REFRESH-INTERVAL:P3D
CALSCALE:GREGORIAN
BEGIN:VEVENT
DTSTART:20171002T140000Z
DTEND:20171002T190000Z
X-MICROSOFT-CDO-ALLDAYEVENT:FALSE
SUMMARY:AmeriStaff Job Fair
DESCRIPTION:AmeriStaff Employment and Staffing Solutions is holding a job fair on Monday\, October 2nd from 10:00am - 3:00pm. \n\n\n\nRecruiting for:\n\nDivision Vice President\n\nBill Coordinator/Shipping Clerk\n\nIndustrial Manufacturing Fabricator\n\nGrinder Operator\n\nMachine Operator - Sewing Machine\n\nShipping & Receiving Associates\n\n\n\nInterviews conducted on site. \n\n\n\nCall (434) 575-0027 for job information.
X-ALT-DESC;FMTTYPE=text/html:AmeriStaff Employment and Staffing Solutions is holding a job fair on Monday\, October 2nd from 10:00am - 3:00pm.&nbsp\;<br />\n<br />\nRecruiting for:<br />\nDivision Vice President<br />\nBill Coordinator/Shipping Clerk<br />\nIndustrial Manufacturing Fabricator<br />\nGrinder Operator<br />\nMachine Operator - Sewing Machine<br />\nShipping &amp\; Receiving Associates<br />\n<br />\nInterviews conducted on site.&nbsp\;<br />\n<br />\nCall (434) 575-0027 for job information.
LOCATION:Virginia Workforce Center 2506 Houghton Ave. South Boston\, VA
UID:e.845.7097
SEQUENCE:3
DTSTAMP:20260422T135714Z
URL:https://business.halifaxchamber.net/events/details/ameristaff-job-fair-7097
END:VEVENT

END:VCALENDAR
