BEGIN:VCALENDAR
VERSION:2.0
PRODID:-//ChamberMaster//Event Calendar 2.0//EN
METHOD:PUBLISH
X-PUBLISHED-TTL:P3D
REFRESH-INTERVAL:P3D
CALSCALE:GREGORIAN
BEGIN:VEVENT
DTSTART:20171115T140000Z
DTEND:20171115T190000Z
X-MICROSOFT-CDO-ALLDAYEVENT:FALSE
SUMMARY:AmeriStaff Job Fair
DESCRIPTION:AmeriStaff Job Fair Wednesday\, November 15th from 9:am - 2pm.\n\n\n\nRecruiting for: \n\nMachine Operators\n\nSewing Machine Operators\n\nShopping & Receiving Associates\n\nIndustrial Manufacturing Fabricators
X-ALT-DESC;FMTTYPE=text/html:AmeriStaff&nbsp\;Job Fair Wednesday\, November 15th from 9:am - 2pm.<br />\n<br />\nRecruiting for:&nbsp\;<br />\nMachine Operators<br />\nSewing Machine Operators<br />\nShopping &amp\; Receiving Associates<br />\nIndustrial Manufacturing Fabricators
LOCATION:AmeriStaff 4130 Halifax Road South Boston\, VA
UID:e.845.7156
SEQUENCE:3
DTSTAMP:20260422T121118Z
URL:https://business.halifaxchamber.net/events/details/ameristaff-job-fair-7156
END:VEVENT

END:VCALENDAR
