BEGIN:VCALENDAR
VERSION:2.0
PRODID:-//ChamberMaster//Event Calendar 2.0//EN
METHOD:PUBLISH
X-PUBLISHED-TTL:P3D
REFRESH-INTERVAL:P3D
CALSCALE:GREGORIAN
BEGIN:VEVENT
DTSTART:20180808T140000Z
DTEND:20180808T190000Z
X-MICROSOFT-CDO-ALLDAYEVENT:FALSE
SUMMARY:Ameristaff Job Fair
DESCRIPTION:Ameristaff Job Fair - Immediate Positions Available\n\nClean up Associate\n\nStacker\n\nAssembly Worker\n\nFurniture Finisher\n\nShipping Associate\n\nManufacturing Home Workers\n\n( Plumber Helper\, Carpenter\, Siding )
X-ALT-DESC;FMTTYPE=text/html:Ameristaff Job Fair - Immediate Positions Available<br />\nClean up Associate<br />\nStacker<br />\nAssembly Worker<br />\nFurniture Finisher<br />\nShipping Associate<br />\nManufacturing Home Workers<br />\n( Plumber Helper\, Carpenter\, Siding )<br />\n&nbsp\;
LOCATION:Estes Community Center 316 N Main Street Chase City\, VA 23924
UID:e.845.8488
SEQUENCE:3
DTSTAMP:20260421T204131Z
URL:https://business.halifaxchamber.net/events/details/ameristaff-job-fair-8488
END:VEVENT

END:VCALENDAR
