BEGIN:VCALENDAR
VERSION:2.0
PRODID:-//ChamberMaster//Event Calendar 2.0//EN
METHOD:PUBLISH
X-PUBLISHED-TTL:P3D
REFRESH-INTERVAL:P3D
CALSCALE:GREGORIAN
BEGIN:VEVENT
DTSTART:20170823T130000Z
DTEND:20170823T160000Z
X-MICROSOFT-CDO-ALLDAYEVENT:FALSE
SUMMARY:Ameristaff Recruiting Event
DESCRIPTION:AmeriStaff is holding a recruiting event Wednesday\, August 23rd. \n\n\n\nRecruiting for:\n\n	Clerical Associate\n	Warehouse Worker (must be able to lift up to 50lbs)\n	Forklife Operator (6 months experience required)\n	Machine Operator \n\n\n\nFollowing experience required:\n\n	forklift experience\n	machine operating experience (3-5 years)\n	experience adjusting & setting machines \n\nDress for Success\n\nBring Resume \n\nCall (434) 575-0027 for Job Information
X-ALT-DESC;FMTTYPE=text/html:AmeriStaff&nbsp\;is holding a recruiting event Wednesday\, August 23rd.&nbsp\;<br />\n<br />\nRecruiting for:\n<ul>\n	<li>Clerical Associate</li>\n	<li>Warehouse Worker (must be able to lift up to 50lbs)</li>\n	<li>Forklife Operator (6 months experience required)</li>\n	<li>Machine Operator&nbsp\;</li>\n</ul>\n<br />\nFollowing experience required:\n<ul>\n	<li>forklift experience</li>\n	<li>machine operating experience (3-5 years)</li>\n	<li>experience adjusting &amp\; setting machines&nbsp\;</li>\n</ul>\nDress for Success<br />\nBring Resume&nbsp\;<br />\nCall (434) 575-0027 for Job Information&nbsp\;
LOCATION:AmeriStaff 4130 Halifax Road South Boston\, VA 24592
UID:e.845.7045
SEQUENCE:3
DTSTAMP:20260422T175311Z
URL:https://business.halifaxchamber.net/events/details/ameristaff-recruiting-event-7045
END:VEVENT

END:VCALENDAR
