BEGIN:VCALENDAR
VERSION:2.0
PRODID:-//ChamberMaster//Event Calendar 2.0//EN
METHOD:PUBLISH
X-PUBLISHED-TTL:P3D
REFRESH-INTERVAL:P3D
CALSCALE:GREGORIAN
BEGIN:VEVENT
DTSTART:20171211T150000Z
DTEND:20171211T190000Z
X-MICROSOFT-CDO-ALLDAYEVENT:FALSE
SUMMARY:AmeriStaff Recruiting Event
DESCRIPTION:AmeriStaff is holding a recruiting event Monday\, December 11th from 10am - 2pm at the Virginia Workforce Center located at 2506 Houghton Avenue\, South Boston\, VA 24592.\n\n\n\nRecruiting for:\n\n	Human Resources Administrative Assistant\n	Machine Operators\n	Sewing Machine Operators\n	Shipping & Receiving Associates\n	Warehouse Associates\n	Industrial Manufacturing Fabricator\n	Staff Accountant/Bookkeeper
X-ALT-DESC;FMTTYPE=text/html:AmeriStaff&nbsp\;is holding a recruiting event Monday\, December 11th from 10am - 2pm&nbsp\;at the Virginia Workforce Center located at 2506 Houghton Avenue\, South Boston\, VA 24592.<br />\n<br />\nRecruiting for:\n<ul>\n	<li>Human Resources Administrative Assistant</li>\n	<li>Machine Operators</li>\n	<li>Sewing Machine Operators</li>\n	<li>Shipping &amp\; Receiving Associates</li>\n	<li>Warehouse Associates</li>\n	<li>Industrial Manufacturing Fabricator</li>\n	<li>Staff Accountant/Bookkeeper</li>\n</ul>\n
LOCATION:Virginia Workforce Center 2506 Houghton Avenue South Boston\, VA
UID:e.845.7181
SEQUENCE:3
DTSTAMP:20260422T120735Z
URL:https://business.halifaxchamber.net/events/details/ameristaff-recruiting-event-7181
END:VEVENT

END:VCALENDAR
