BEGIN:VCALENDAR
VERSION:2.0
PRODID:-//ChamberMaster//Event Calendar 2.0//EN
METHOD:PUBLISH
X-PUBLISHED-TTL:P3D
REFRESH-INTERVAL:P3D
CALSCALE:GREGORIAN
BEGIN:VEVENT
DTSTART:20171214T140000Z
DTEND:20171214T190000Z
X-MICROSOFT-CDO-ALLDAYEVENT:FALSE
SUMMARY:AmeriStaff Recruiting Event
DESCRIPTION:AmeriStaff is holding a recruiting event Thursday\, December 14th from 9am - 2pm at the South Boston AmeriStaff office located at 4130 Halifax Road.\n\n\n\nRecruiting for:\n\n	Human Resources Administrative Assistant\n	Machine Operators\n	Sewing Machine Operators\n	Shipping & Receiving Associates\n	Warehouse Associates\n	Industrial Manufacturing Fabricator\n	Staff Accountant/Bookkeeper
X-ALT-DESC;FMTTYPE=text/html:AmeriStaff&nbsp\;is holding a recruiting event Thursday\, December 14th from 9am - 2pm&nbsp\;at the South Boston AmeriStaff&nbsp\;office&nbsp\;located at 4130 Halifax Road.<br />\n<br />\nRecruiting for:\n<ul>\n	<li>Human Resources Administrative Assistant</li>\n	<li>Machine Operators</li>\n	<li>Sewing Machine Operators</li>\n	<li>Shipping &amp\; Receiving Associates</li>\n	<li>Warehouse Associates</li>\n	<li>Industrial Manufacturing Fabricator</li>\n	<li>Staff Accountant/Bookkeeper</li>\n</ul>\n
LOCATION:AmeriStaff 4130 Halifax Road South Boston\, VA
UID:e.845.7182
SEQUENCE:3
DTSTAMP:20260422T104416Z
URL:https://business.halifaxchamber.net/events/details/ameristaff-recruiting-event-7182
END:VEVENT

END:VCALENDAR
