BEGIN:VCALENDAR
VERSION:2.0
PRODID:-//ChamberMaster//Event Calendar 2.0//EN
METHOD:PUBLISH
X-PUBLISHED-TTL:P3D
REFRESH-INTERVAL:P3D
CALSCALE:GREGORIAN
BEGIN:VEVENT
DTSTART:20180321T130000Z
DTEND:20180321T180000Z
X-MICROSOFT-CDO-ALLDAYEVENT:FALSE
SUMMARY:Ameristaff Recruiting Event
DESCRIPTION:Amerisaff Recruiting Event for the following positions:\n\nMachine Operators\n\nStaff Accountant / Bookkeeper\n\nShipping and Receiving Associates\n\nCustomer Service Representatives ( Warehouse )\n\nDress for Success. Bring Resume\n\nApply online www.ameristaff.com
X-ALT-DESC;FMTTYPE=text/html:Amerisaff&nbsp\;Recruiting Event for the following positions:<br />\nMachine Operators<br />\nStaff Accountant / Bookkeeper<br />\nShipping and Receiving Associates<br />\nCustomer Service Representatives ( Warehouse )<br />\nDress for Success. Bring Resume<br />\nApply online www.ameristaff.com
LOCATION:Ameristaff Employment & Staffing Solutions 4130 Halifax Road South Boston\, VA 24592
UID:e.845.7238
SEQUENCE:3
DTSTAMP:20260422T051718Z
URL:https://business.halifaxchamber.net/events/details/ameristaff-recruiting-event-7238
END:VEVENT

END:VCALENDAR
