BEGIN:VCALENDAR
VERSION:2.0
PRODID:-//ChamberMaster//Event Calendar 2.0//EN
METHOD:PUBLISH
X-PUBLISHED-TTL:P3D
REFRESH-INTERVAL:P3D
CALSCALE:GREGORIAN
BEGIN:VEVENT
DTSTART:20181003T140000Z
DTEND:20181003T180000Z
X-MICROSOFT-CDO-ALLDAYEVENT:FALSE
SUMMARY:AmeriStaff Recruiting Event
DESCRIPTION:Ameristaff Recruiting Event:\n\nImmediate Positions Available\, Temp To Hire Positions\n\nPlumber Helpers\n\nElectrical Helpers\n\nGeneral Carpentry\n\nPainting\n\nShreetrock Associates\n\nSiding Associates
X-ALT-DESC;FMTTYPE=text/html:Ameristaff Recruiting Event:<br />\nImmediate Positions Available\, Temp To Hire Positions<br />\nPlumber Helpers<br />\nElectrical Helpers<br />\nGeneral Carpentry<br />\nPainting<br />\nShreetrock Associates<br />\nSiding Associates<br />\n&nbsp\;
LOCATION:VA Workforce Center 2506 Houghton Avenue South Boston\, VA 24592
UID:e.845.8508
SEQUENCE:3
DTSTAMP:20260421T185015Z
URL:https://business.halifaxchamber.net/events/details/ameristaff-recruiting-event-8508
END:VEVENT

END:VCALENDAR
