BEGIN:VCALENDAR
VERSION:2.0
PRODID:-//ChamberMaster//Event Calendar 2.0//EN
METHOD:PUBLISH
X-PUBLISHED-TTL:P3D
REFRESH-INTERVAL:P3D
CALSCALE:GREGORIAN
BEGIN:VEVENT
DTSTART:20181019T140000Z
DTEND:20181019T180000Z
X-MICROSOFT-CDO-ALLDAYEVENT:FALSE
SUMMARY:Ameristaff Recruiting Event
DESCRIPTION:Recruiting for Shipping & Receiving Associates\n\nIndustrial Sewing Machine Operators\n\nWarehouse Associates(Martinsville\, VA)\n\n\n\n\nThe first 50 people to APPLY and INTERVIEW with us will receive a FREE Hot Dog Combo from The Unique Q food truck!
X-ALT-DESC;FMTTYPE=text/html:Recruiting for Shipping &amp\; Receiving Associates<br />\nIndustrial Sewing Machine Operators<br />\nWarehouse Associates(Martinsville\, VA)\n<div class="page" title="Page 1">\n<div class="section" style="background-color: rgb(100.000000%\, 100.000000%\, 100.000000%)">\n<div class="layoutArea">\n<div class="column">\n<p><span style="font-size:14px\;"><span style="font-family: Quattrocento\; color: rgb(34\, 34\, 34)\;">The first </span><span style="font-family: Quattrocento\; font-weight: 700\; color: rgb(34\, 34\, 34)\;">50 </span><span style="font-family: Quattrocento\; color: rgb(34\, 34\, 34)\;">people to </span><span style="font-family: Quattrocento\; font-weight: 700\; color: rgb(34\, 34\, 34)\;">APPLY </span><span style="font-family: Quattrocento\; color: rgb(34\, 34\, 34)\;">and </span><span style="font-family: Quattrocento\; font-weight: 700\; color: rgb(34\, 34\, 34)\;">INTERVIEW </span><span style="font-family: Quattrocento\; color: rgb(34\, 34\, 34)\;">with us will receive a </span><span style="font-family: Quattrocento\; font-weight: 700\; color: rgb(34\, 34\, 34)\;">FREE Hot Dog Combo </span><span style="font-family: Quattrocento\; color: rgb(34\, 34\, 34)\;">from </span><span style="font-family: Quattrocento\; font-weight: 700\; color: rgb(34\, 34\, 34)\;">The Unique Q </span><span style="font-family: Quattrocento\; color: rgb(34\, 34\, 34)\;">food truck! </span></span></p>\n</div>\n</div>\n</div>\n</div>\n
LOCATION:South Boston Office 4130 halifax Road South Boston\, VA 245923 (434) 575-0027
UID:e.845.8533
SEQUENCE:3
DTSTAMP:20260421T171145Z
URL:https://business.halifaxchamber.net/events/details/ameristaff-recruiting-event-8533
END:VEVENT

END:VCALENDAR
