BEGIN:VCALENDAR
VERSION:2.0
PRODID:-//ChamberMaster//Event Calendar 2.0//EN
METHOD:PUBLISH
X-PUBLISHED-TTL:P3D
REFRESH-INTERVAL:P3D
CALSCALE:GREGORIAN
BEGIN:VEVENT
DTSTART:20190327T140000Z
DTEND:20190327T180000Z
X-MICROSOFT-CDO-ALLDAYEVENT:FALSE
SUMMARY:Ameristaff Recruiting Events March 27
DESCRIPTION:Ameristaff Recruiting Event\n\nSewing Machine Operators\n\nShipping & Receiving Associates\n\nAdministrative Assistant\n\nProduction Workers\n\nManufacturing Team Associates
X-ALT-DESC;FMTTYPE=text/html:Ameristaff Recruiting Event<br />\nSewing Machine Operators<br />\nShipping &amp\; Receiving Associates<br />\nAdministrative Assistant<br />\nProduction Workers<br />\nManufacturing Team Associates
LOCATION:South Boston Office 4130 Halifax Road South Boston\, VA 24592
UID:e.845.12377
SEQUENCE:3
DTSTAMP:20260421T093834Z
URL:https://business.halifaxchamber.net/events/details/ameristaff-recruiting-events-march-27-12377
END:VEVENT

END:VCALENDAR
