BEGIN:VCALENDAR
VERSION:2.0
PRODID:-//ChamberMaster//Event Calendar 2.0//EN
METHOD:PUBLISH
X-PUBLISHED-TTL:P3D
REFRESH-INTERVAL:P3D
CALSCALE:GREGORIAN
BEGIN:VEVENT
DTSTART:20200904T140000Z
DTEND:20200904T180000Z
X-MICROSOFT-CDO-ALLDAYEVENT:FALSE
SUMMARY:AmeriStaff South Boston Job Fair
DESCRIPTION:Immediate Openings:\n\n	Warehouse Workers\n	Machine Operators\n	Electrical Helpers\n	Clerical/Administrative Assistant\n\nGas Gift Card Giveaways!
X-ALT-DESC;FMTTYPE=text/html:Immediate Openings:\n<ul>\n	<li>Warehouse Workers</li>\n	<li>Machine Operators</li>\n	<li>Electrical Helpers</li>\n	<li>Clerical/Administrative Assistant</li>\n</ul>\nGas Gift Card Giveaways!<br />\n&nbsp\;
LOCATION:4130 Halifax Road South Boston\, VA 24592
UID:e.845.17752
SEQUENCE:3
DTSTAMP:20260420T050721Z
URL:https://business.halifaxchamber.net/events/details/ameristaff-south-boston-job-fair-17752
END:VEVENT

END:VCALENDAR
