BEGIN:VCALENDAR
VERSION:2.0
PRODID:-//ChamberMaster//Event Calendar 2.0//EN
METHOD:PUBLISH
X-PUBLISHED-TTL:P3D
REFRESH-INTERVAL:P3D
CALSCALE:GREGORIAN
BEGIN:VEVENT
DTSTART:20190109T150000Z
DTEND:20190109T190000Z
X-MICROSOFT-CDO-ALLDAYEVENT:FALSE
SUMMARY:Ameristaff South Boston Office Hiring Event
DESCRIPTION:Our South Boston Office has Immediate Openings for Manufacturing Workers at ABB in South Boston\, VA as well as many other openings to include: Shipping and Receiving Associates\, Sewing Machine Operators\, Machine Operators and Staffing Consultant! Come on out and see us on Wednesday\, January 9th from 10 am until 2 pm!\n\n\n\nPlease make sure to bring your resume and 2 forms of ID!
X-ALT-DESC;FMTTYPE=text/html:<span style="caret-color: rgb(29\, 33\, 41)\; color: rgb(29\, 33\, 41)\; font-family: system-ui\, -apple-system\, BlinkMacSystemFont\, &quot\;.SFNSText-Regular&quot\;\, sans-serif\; font-size: 14px\; white-space: pre-wrap\; background-color: rgb(255\, 255\, 255)\;">Our South Boston Office has Immediate Openings for Manufacturing Workers at ABB in South Boston\, VA as well as many other openings to include: Shipping and Receiving Associates\, Sewing Machine Operators\, Machine Operators and Staffing Consultant! Come on out and see us on Wednesday\, January 9th from 10 am until 2 pm!</span><br style="caret-color: rgb(29\, 33\, 41)\; color: rgb(29\, 33\, 41)\; font-family: system-ui\, -apple-system\, BlinkMacSystemFont\, &quot\;.SFNSText-Regular&quot\;\, sans-serif\; font-size: 14px\; white-space: pre-wrap\;" />\n<br style="caret-color: rgb(29\, 33\, 41)\; color: rgb(29\, 33\, 41)\; font-family: system-ui\, -apple-system\, BlinkMacSystemFont\, &quot\;.SFNSText-Regular&quot\;\, sans-serif\; font-size: 14px\; white-space: pre-wrap\;" />\n<span style="caret-color: rgb(29\, 33\, 41)\; color: rgb(29\, 33\, 41)\; font-family: system-ui\, -apple-system\, BlinkMacSystemFont\, &quot\;.SFNSText-Regular&quot\;\, sans-serif\; font-size: 14px\; white-space: pre-wrap\; background-color: rgb(255\, 255\, 255)\;">Please make sure to bring your resume and 2 forms of ID! </span>
LOCATION:4130 Halifax Road South Boston\, VA 24592
UID:e.845.11680
SEQUENCE:3
DTSTAMP:20260421T140249Z
URL:https://business.halifaxchamber.net/events/details/ameristaff-south-boston-office-hiring-event-11680
END:VEVENT

END:VCALENDAR
