BEGIN:VCALENDAR
VERSION:2.0
PRODID:-//ChamberMaster//Event Calendar 2.0//EN
METHOD:PUBLISH
X-PUBLISHED-TTL:P3D
REFRESH-INTERVAL:P3D
CALSCALE:GREGORIAN
BEGIN:VEVENT
DTSTART:20191203T230000Z
DTEND:20191204T010000Z
X-MICROSOFT-CDO-ALLDAYEVENT:FALSE
SUMMARY:An Evening with Santa
DESCRIPTION:Have your photo taken with Santa and take home a free 5x7 print.\n\nCookies and other holiday snacks provided.\n\nAttendance is free\, but registration is required.\n\nCall 434.517.3538 to secure your spot.
X-ALT-DESC;FMTTYPE=text/html:Have your photo taken with Santa and take home a free 5x7 print.<br />\nCookies and other holiday snacks provided.<br />\nAttendance is free\, but registration is required.<br />\nCall 434.517.3538 to secure your spot.
LOCATION:Sentara Halifax Pediatrics 2100 Wilborn Avenue South Boston\, VA 24592
UID:e.845.15539
SEQUENCE:3
DTSTAMP:20260420T181111Z
URL:https://business.halifaxchamber.net/events/details/an-evening-with-santa-15539
END:VEVENT

END:VCALENDAR
