BEGIN:VCALENDAR
VERSION:2.0
PRODID:-//ChamberMaster//Event Calendar 2.0//EN
METHOD:PUBLISH
X-PUBLISHED-TTL:P3D
REFRESH-INTERVAL:P3D
CALSCALE:GREGORIAN
BEGIN:VEVENT
DTSTART:20171205T230000Z
DTEND:20171206T010000Z
X-MICROSOFT-CDO-ALLDAYEVENT:FALSE
SUMMARY:An Evening with Santa
DESCRIPTION:Have your photo taken with Santa and take home a free 5x7 print.\n\n\n\nCookies and other holiday snacks provided. Attendance is free\, but registration is required. Call (434) 517-3538 to secure your spot.
X-ALT-DESC;FMTTYPE=text/html:Have your photo taken with Santa and take home a free 5x7 print.<br />\n<br />\nCookies and other holiday snacks provided. Attendance is free\, but registration is required. Call (434) 517-3538 to secure your spot.&nbsp\;
LOCATION:Sentara Halifax Pediatrics 2100 Wilborn Avenue South Boston\, VA
UID:e.845.7157
SEQUENCE:3
DTSTAMP:20260422T104436Z
URL:https://business.halifaxchamber.net/events/details/an-evening-with-santa-7157
END:VEVENT

END:VCALENDAR
