BEGIN:VCALENDAR
VERSION:2.0
PRODID:-//ChamberMaster//Event Calendar 2.0//EN
METHOD:PUBLISH
X-PUBLISHED-TTL:P3D
REFRESH-INTERVAL:P3D
CALSCALE:GREGORIAN
BEGIN:VEVENT
DTSTART:20181206T230000Z
DTEND:20181207T010000Z
X-MICROSOFT-CDO-ALLDAYEVENT:FALSE
SUMMARY:An Evening with Santa
DESCRIPTION:Come enjoy an Evening with Santa\, December 6th\, 6pm to 8pm at Sentara Halifax Pediatrics. Have your picture taken with Santa and take home a free 5x7 print. Attendence is free\, but registration is required. Call 434-517-3538 to secure your spot.
X-ALT-DESC;FMTTYPE=text/html:<span style="caret-color: rgb(29\, 33\, 41)\; color: rgb(29\, 33\, 41)\; font-family: system-ui\, -apple-system\, BlinkMacSystemFont\, &quot\;.SFNSText-Regular&quot\;\, sans-serif\; font-size: 14px\; background-color: rgb(255\, 255\, 255)\;">Come enjoy an Evening with Santa\, December 6th\, 6pm to 8pm at Sentara Halifax Pediatrics. Have your picture taken with Santa and take home a free 5x7 print. Attendence is free\, but registration is required. Call 434-517-3538 to secure your spot.</span>
LOCATION:Sentara Halifax Pediatrics
UID:e.845.8560
SEQUENCE:3
DTSTAMP:20260421T135803Z
URL:https://business.halifaxchamber.net/events/details/an-evening-with-santa-8560
END:VEVENT

END:VCALENDAR
