BEGIN:VCALENDAR
VERSION:2.0
PRODID:-//ChamberMaster//Event Calendar 2.0//EN
METHOD:PUBLISH
X-PUBLISHED-TTL:P3D
REFRESH-INTERVAL:P3D
CALSCALE:GREGORIAN
BEGIN:VEVENT
DTSTART:20171223T190000Z
DTEND:20171223T210000Z
X-MICROSOFT-CDO-ALLDAYEVENT:FALSE
SUMMARY:An Evening with Santa at the World of Sports
DESCRIPTION:Santa and Mrs. Claus will be at the World of Sports from 2-4 on Saturday\, December 23rd for pictures\, got chocolate and cookies. During this time you can bowl\, race or play laser tag with Santa's helpers.\n\n\n\nSanta and Mrs. Claus will also be collecting care package items\, such as toothbrushes\, toothpaste\, soap\, shampoo\, etc. to be donated to students at local schools.
X-ALT-DESC;FMTTYPE=text/html:Santa and Mrs. Claus will be at the World of Sports from 2-4 on Saturday\, December 23rd for pictures\, got chocolate and cookies. During this time you can bowl\, race or play laser tag with Santa&#39\;s helpers.<br />\n<br />\nSanta and Mrs. Claus will also be collecting care package items\, such as toothbrushes\, toothpaste\, soap\, shampoo\, etc. to be donated to students at local schools.
LOCATION:World of Sports 2030 Bill Tuck Highway South Boston\, VA
UID:e.845.7185
SEQUENCE:3
DTSTAMP:20260422T105257Z
URL:https://business.halifaxchamber.net/events/details/an-evening-with-santa-at-the-world-of-sports-7185
END:VEVENT

END:VCALENDAR
