BEGIN:VCALENDAR
VERSION:2.0
PRODID:-//ChamberMaster//Event Calendar 2.0//EN
METHOD:PUBLISH
X-PUBLISHED-TTL:P3D
REFRESH-INTERVAL:P3D
CALSCALE:GREGORIAN
BEGIN:VEVENT
DTSTART:20171203T230000Z
DTEND:20171204T000000Z
X-MICROSOFT-CDO-ALLDAYEVENT:FALSE
SUMMARY:AngelFest Christmas Parade & Tree Lighting Ceremony
DESCRIPTION:The Halifax Village Association and the Town of Halifax will be holding their annual Christmas Parade and Tree Lighting Ceremony on Sunday\, December 3rd. \n\n\n\nThis year the theme is Christmas Angel.\n\n\n\nMake a Christmas mini-float decorated to fit the theme Christmas Angel. \n\nLine up at 5:30pm at the town of Halifax Farmer's Market parking lot\n\nThe parade will begin at 6:00 - it was start at the Farmer's Market and end at Blessed Hope Halifax Church.\n\nTree lighting ceremony at the beginning of the parade.\n\n\n\nContact Sharon Blosser at (434) 579-5415.
X-ALT-DESC;FMTTYPE=text/html:The Halifax Village Association and the Town of Halifax will be holding their annual Christmas Parade and Tree Lighting Ceremony on Sunday\, December 3rd.&nbsp\;<br />\n<br />\nThis year the theme is Christmas Angel.<br />\n<br />\nMake a Christmas mini-float decorated to fit the theme Christmas Angel.&nbsp\;<br />\nLine up at 5:30pm&nbsp\;at the town of Halifax Farmer&#39\;s Market parking lot<br />\nThe parade will begin at 6:00 - it was start at the Farmer&#39\;s Market and end at Blessed Hope Halifax Church.<br />\nTree lighting ceremony at the beginning of the parade.<br />\n<br />\nContact Sharon Blosser at (434) 579-5415.<br />\n<br />\n<br />\n<br />\n&nbsp\;
LOCATION:Town of Halifax
UID:e.845.7178
SEQUENCE:3
DTSTAMP:20260422T104535Z
URL:https://business.halifaxchamber.net/events/details/angelfest-christmas-parade-tree-lighting-ceremony-7178
END:VEVENT

END:VCALENDAR
