BEGIN:VCALENDAR
VERSION:2.0
PRODID:-//ChamberMaster//Event Calendar 2.0//EN
METHOD:PUBLISH
X-PUBLISHED-TTL:P3D
REFRESH-INTERVAL:P3D
CALSCALE:GREGORIAN
BEGIN:VEVENT
DTSTART:20210422T130000Z
DTEND:20210422T170000Z
X-MICROSOFT-CDO-ALLDAYEVENT:FALSE
SUMMARY:Annin Flagmakers Job Fair
DESCRIPTION:Hiring sewing machine operators - 2nd shift\n\nNo experience needed\n\n$11.60 per hour while training
X-ALT-DESC;FMTTYPE=text/html:Hiring sewing machine operators - 2nd shift<br />\nNo experience needed<br />\n$11.60 per hour while training
LOCATION:3011 Philpott Rd South Boston\, VA 24592
UID:e.845.17972
SEQUENCE:3
DTSTAMP:20260419T153022Z
URL:https://business.halifaxchamber.net/events/details/annin-flagmakers-job-fair-17972
END:VEVENT

END:VCALENDAR
