BEGIN:VCALENDAR
VERSION:2.0
PRODID:-//ChamberMaster//Event Calendar 2.0//EN
METHOD:PUBLISH
X-PUBLISHED-TTL:P3D
REFRESH-INTERVAL:P3D
CALSCALE:GREGORIAN
BEGIN:VEVENT
DTSTART:20201111T150000Z
DTEND:20201112T000000Z
X-MICROSOFT-CDO-ALLDAYEVENT:FALSE
SUMMARY:Annin On-site Job Fair
DESCRIPTION:AmeriStaff will be hosting an onsite job fair at Annin. \n\nHiring sewing machine operators. Temp to hire\, 1st and 2nd shift available\, full time\, no experience needed!
X-ALT-DESC;FMTTYPE=text/html:AmeriStaff will be hosting an onsite job fair at Annin.&nbsp\;<br />\nHiring sewing machine operators. Temp to hire\, 1st and 2nd shift available\, full time\, no experience needed!
LOCATION:3011 Philpott Road South Boston\, VA 24592
UID:e.845.17802
SEQUENCE:3
DTSTAMP:20260419T234536Z
URL:https://business.halifaxchamber.net/events/details/annin-on-site-job-fair-17802
END:VEVENT

END:VCALENDAR
