BEGIN:VCALENDAR
VERSION:2.0
PRODID:-//ChamberMaster//Event Calendar 2.0//EN
METHOD:PUBLISH
X-PUBLISHED-TTL:P3D
REFRESH-INTERVAL:P3D
CALSCALE:GREGORIAN
BEGIN:VEVENT
DTSTART:20191221T170000Z
DTEND:20191221T200000Z
X-MICROSOFT-CDO-ALLDAYEVENT:FALSE
SUMMARY:Annual EggNog Party
DESCRIPTION:Enjoy Springfield Distillery's twist on eggnog!
X-ALT-DESC;FMTTYPE=text/html:Enjoy Springfield Distillery&#39\;s twist on eggnog!
LOCATION:Springfield Distillery 9040 River Road Halifax\, VA 24558
UID:e.845.15623
SEQUENCE:3
DTSTAMP:20260420T195825Z
URL:https://business.halifaxchamber.net/events/details/annual-eggnog-party-15623
END:VEVENT

END:VCALENDAR
