BEGIN:VCALENDAR
VERSION:2.0
PRODID:-//ChamberMaster//Event Calendar 2.0//EN
METHOD:PUBLISH
X-PUBLISHED-TTL:P3D
REFRESH-INTERVAL:P3D
CALSCALE:GREGORIAN
BEGIN:VEVENT
DTSTART:20190406T223000Z
DTEND:20190407T030000Z
X-MICROSOFT-CDO-ALLDAYEVENT:FALSE
SUMMARY:Annual Gala Hunting Creek Vineyards
DESCRIPTION:We are pleased to announce our Annual Wine Club Gala this year will be at the Halifax County Country Club. \n\nThe Theme is " MY FAVORITE THINGS".\n\nArrive between 6:30pm and 7pm\, you will be greeted with a Cocktail featuring Springfield Whiskey\n\n\nDinner service will be begin at 7:15pm\, appetizers will be on each table for your enjoyment .\n\n(Tables of 6\, to request a table please contact me by email or "reserve your table upon arrival.")\n\nIf you have a beef allergy please contact me by email: info@huntingcreekvineyards.com\n\nMusic by Turkey Scratch will start at 8:30pm!\n\nWe hope you can join us for DINNER\, LIVE MUSIC \, DANCING AND\, OF COURSE\, ENVY!!!\n\nAll guests with Reserve Club memberships will go home with two bottles of Envy. \n\nYou may also pre-order wines to be picked up at the Gala.\n\nPurchase your Gala ticket at https://www.hcvwines.com/gala-order/
X-ALT-DESC;FMTTYPE=text/html:<p style="margin: 0px 0px 6px\; font-family: system-ui\, -apple-system\, BlinkMacSystemFont\, &quot\;.SFNSText-Regular&quot\;\, sans-serif\; caret-color: rgb(29\, 33\, 41)\; color: rgb(29\, 33\, 41)\; font-size: 14px\;">We are pleased to announce our Annual Wine Club Gala this year will be at the Halifax County Country Club.&nbsp\;</p>\n\n<p style="margin: 6px 0px\; font-family: system-ui\, -apple-system\, BlinkMacSystemFont\, &quot\;.SFNSText-Regular&quot\;\, sans-serif\; caret-color: rgb(29\, 33\, 41)\; color: rgb(29\, 33\, 41)\; font-size: 14px\;">The Theme is &ldquo\; MY FAVORITE THINGS&rdquo\;.</p>\n\n<p style="margin: 6px 0px\; font-family: system-ui\, -apple-system\, BlinkMacSystemFont\, &quot\;.SFNSText-Regular&quot\;\, sans-serif\; caret-color: rgb(29\, 33\, 41)\; color: rgb(29\, 33\, 41)\; font-size: 14px\;">Arrive between 6:30pm and 7pm\, you will be greeted with a Cocktail featuring Springfield Whiskey</p>\n\n<div class="text_exposed_show" style="display: inline\; font-family: system-ui\, -apple-system\, BlinkMacSystemFont\, &quot\;.SFNSText-Regular&quot\;\, sans-serif\; caret-color: rgb(29\, 33\, 41)\; color: rgb(29\, 33\, 41)\; font-size: 14px\;">\n<p style="margin: 0px 0px 6px\; font-family: inherit\;">Dinner service will be begin at 7:15pm\, appetizers will be on each table for your enjoyment .</p>\n\n<p style="margin: 6px 0px\; font-family: inherit\;">(Tables of 6\, to request a table please contact me by email or &ldquo\;reserve your table upon arrival.&rdquo\;)</p>\n\n<p style="margin: 6px 0px\; font-family: inherit\;">If you have a beef allergy please contact me by email: info@huntingcreekvineyards.com</p>\n\n<p style="margin: 6px 0px\; font-family: inherit\;">Music by Turkey Scratch will start at 8:30pm!</p>\n\n<p style="margin: 6px 0px\; font-family: inherit\;">We hope you can join us for DINNER\, LIVE MUSIC \, DANCING AND\, OF COURSE\, ENVY!!!</p>\n\n<p style="margin: 6px 0px\; font-family: inherit\;">All guests with Reserve Club memberships will go home with two bottles of Envy.&nbsp\;</p>\n\n<p style="margin: 6px 0px\; font-family: inherit\;">You may also pre-order wines to be picked up at the Gala.</p>\n\n<p style="margin: 6px 0px\; font-family: inherit\;">Purchase your Gala ticket at&nbsp\;<a data-ft="{&quot\;tn&quot\;:&quot\;-U&quot\;}" data-lynx-mode="origin" href="https://l.facebook.com/l.php?u=https%3A%2F%2Fwww.hcvwines.com%2Fgala-order%2F%3Ffbclid%3DIwAR1tIMDbjh-UnGvDq-IaEuxlZYRZxNNIVZ-ad9WaDOWWidXFlXpcmN0c_sw&amp\;h=AT2OYfkKbSwYsql7pMR_eiddlHcx97QQeU__0Iq5BWdWVWQvOGN_Pkd9CKl9PQUe7sCPuYRZwCNpq6vZOK5KLCYqWp2aiI2mix6vJQ2nVGZebcQULKV6RNBGm8N575AsPBuq_RG7CRN3FL4N_iXekQSs3hCvJAJh-pvRYj0E_J1WryUQRnz49Gqt_okFwSCP5aUkFmhQ7XYZFtt67MnrGvpnK3eAZZ7ZKVZ-KNsgD59nWWy3YYTCBQZafhrF2_hhd8jiQY1yQcrHKXlQ5gdeTN2hBVcalldpmThunhMOOqUQTGRIq1XtyTZ1NTtvGSe7x08SIVsg0jwktHTZ5h5EQDZXMQ0uVZzvHh-92sru1EqYof1BBbxspxbKHhu-R8-WE11AJSHeXG57JJ4LltXDMp5bgvT_ShA4s7bu_Ivx5BE21SVrqCHnq7JUFrgmU19pfLx4UZyNQVS5CMhLL4U67sgBEpFO_CwfSW3q0JSBiZGeNwPSi9OIQjoGNqC4EOL_ETtJlb9DZZ67FfU4yFfglEAnVP5LlExtghey5FpM7Gpsqe5UqtsJFX7DM9CytzNmDB4vw2zkxRvyXLcl2TolTc4qWokGVxgFgnaPrcjShIxPEs5C-xTYYfAnaMMh17KB6gGEQUKctQbAeD-7kAiHf09mbqIPqyshuv3Zy6qovoBzXhCI" rel="noopener nofollow" style="color: rgb(54\, 88\, 153)\; cursor: pointer\; text-decoration: none\; font-family: inherit\;" target="_blank">https://www.hcvwines.com/gala-order/</a></p>\n</div>\n
LOCATION:Halifax Country Club
UID:e.845.11716
SEQUENCE:3
DTSTAMP:20260421T080051Z
URL:https://business.halifaxchamber.net/events/details/annual-gala-hunting-creek-vineyards-11716
END:VEVENT

END:VCALENDAR
